BEGIN:VCALENDAR
VERSION:2.0
PRODID:-//CERN//INDICO//EN
BEGIN:VEVENT
SUMMARY:Practice: dynamic rupture (continued)
DTSTART;VALUE=DATE-TIME:20190905T150000Z
DTEND;VALUE=DATE-TIME:20190905T163000Z
DTSTAMP;VALUE=DATE-TIME:20240229T212805Z
UID:indico-contribution-15@ictp.it
DESCRIPTION:Speakers: HUIHUI WENG\, DUO LI ()\n//indico.ictp.it/event/8715
 /session/4/contribution/15
LOCATION:ICTP Adriatico Guest House - Informatics Laboratory
URL://indico.ictp.it/event/8715/session/4/contribution/15
END:VEVENT
END:VCALENDAR
