BEGIN:VCALENDAR
VERSION:2.0
PRODID:-//CERN//INDICO//EN
BEGIN:VEVENT
SUMMARY:Active deformation and Earthquakes in Italy and surroundings
DTSTART;VALUE=DATE-TIME:20190907T063000Z
DTEND;VALUE=DATE-TIME:20190907T080000Z
DTSTAMP;VALUE=DATE-TIME:20240229T212733Z
UID:indico-contribution-6-0-20@ictp.it
DESCRIPTION:Speakers: KARIM AOUDIA (ICTP\, Trieste\, Italy)\n//indico.ictp
 .it/event/8715/session/6/contribution/20
LOCATION:ICTP Adriatico Guest House - Kastler Lecture Hall
URL://indico.ictp.it/event/8715/session/6/contribution/20
END:VEVENT
BEGIN:VEVENT
SUMMARY:Bridging the gap between seismology and engineering
DTSTART;VALUE=DATE-TIME:20190907T083000Z
DTEND;VALUE=DATE-TIME:20190907T100000Z
DTSTAMP;VALUE=DATE-TIME:20240229T212733Z
UID:indico-contribution-6-0-21@ictp.it
DESCRIPTION:Speakers: STEFANO PAROLAI (INOGS\, Trieste\, Italy)\n//indico.
 ictp.it/event/8715/session/6/contribution/21
LOCATION:ICTP Adriatico Guest House - Kastler Lecture Hall
URL://indico.ictp.it/event/8715/session/6/contribution/21
END:VEVENT
END:VCALENDAR
