BEGIN:VCALENDAR
VERSION:2.0
PRODID:-//CERN//INDICO//EN
BEGIN:VEVENT
SUMMARY:Field trip to Civil Protection headquarters in Palmanova\, followe
 d by visit to Venzone\, near the epicenter of the 1976 Friuli earthquake\,
  dinner\, return by 22:00
DTSTART;VALUE=DATE-TIME:20190907T110000Z
DTEND;VALUE=DATE-TIME:20190907T200000Z
DTSTAMP;VALUE=DATE-TIME:20240229T213303Z
UID:indico-event-7-0@ictp.it
DESCRIPTION://indico.ictp.it/event/8715/session/7/?slotId=0
LOCATION:
URL://indico.ictp.it/event/8715/session/7/?slotId=0
END:VEVENT
END:VCALENDAR
