BEGIN:VCALENDAR
VERSION:2.0
PRODID:-//CERN//INDICO//EN
BEGIN:VEVENT
SUMMARY:How to use seismological data to infer fault friction properties a
 nd stress
DTSTART;VALUE=DATE-TIME:20190909T070000Z
DTEND;VALUE=DATE-TIME:20190909T083000Z
DTSTAMP;VALUE=DATE-TIME:20240229T212811Z
UID:indico-contribution-8-0-23@ictp.it
DESCRIPTION:Speakers: ELISA TINTI (INGV\, Rome\, Italy)\n//indico.ictp.it/
 event/8715/session/8/contribution/23
LOCATION:ICTP Adriatico Guest House - Kastler Lecture Hall
URL://indico.ictp.it/event/8715/session/8/contribution/23
END:VEVENT
BEGIN:VEVENT
SUMMARY:How to use seismological data to infer fault friction properties a
 nd stress (continued)
DTSTART;VALUE=DATE-TIME:20190909T090000Z
DTEND;VALUE=DATE-TIME:20190909T103000Z
DTSTAMP;VALUE=DATE-TIME:20240229T212811Z
UID:indico-contribution-8-0-24@ictp.it
DESCRIPTION:Speakers: ELISA TINTI (INGV\, Rome\, Italy)\n//indico.ictp.it/
 event/8715/session/8/contribution/24
LOCATION:ICTP Adriatico Guest House - Kastler Lecture Hall
URL://indico.ictp.it/event/8715/session/8/contribution/24
END:VEVENT
BEGIN:VEVENT
SUMMARY:Impact of uncertainties of crustal model and source variability on
  ground motions
DTSTART;VALUE=DATE-TIME:20190909T120000Z
DTEND;VALUE=DATE-TIME:20190909T133000Z
DTSTAMP;VALUE=DATE-TIME:20240229T212811Z
UID:indico-contribution-8-0-25@ictp.it
DESCRIPTION:Speakers: ELISA TINTI (INGV\, Rome\, Italy)\n//indico.ictp.it/
 event/8715/session/8/contribution/25
LOCATION:ICTP Adriatico Guest House - Kastler Lecture Hall
URL://indico.ictp.it/event/8715/session/8/contribution/25
END:VEVENT
BEGIN:VEVENT
SUMMARY:Dynamic source inversion
DTSTART;VALUE=DATE-TIME:20190909T140000Z
DTEND;VALUE=DATE-TIME:20190909T153000Z
DTSTAMP;VALUE=DATE-TIME:20240229T212811Z
UID:indico-contribution-8-0-26@ictp.it
DESCRIPTION:Speakers: JEAN PAUL AMPUERO (GEOAZUR\, Nice\, France / CALTECH
 \, Pasadena\, USA)\n//indico.ictp.it/event/8715/session/8/contribution/26
LOCATION:ICTP Adriatico Guest House - Kastler Lecture Hall
URL://indico.ictp.it/event/8715/session/8/contribution/26
END:VEVENT
END:VCALENDAR
