BEGIN:VCALENDAR
VERSION:2.0
PRODID:-//CERN//INDICO//EN
BEGIN:VEVENT
SUMMARY:Theta-dependence in QCD and QCD-like theories from lattice simulat
 ions
DTSTART;VALUE=DATE-TIME:20190903T143000Z
DTEND;VALUE=DATE-TIME:20190903T150000Z
DTSTAMP;VALUE=DATE-TIME:20240229T212102Z
UID:indico-contribution-300@ictp.it
DESCRIPTION:Speakers: MASSIMO D'ELIA (Universita di Pisa)\n//indico.ictp.i
 t/event/8716/session/53/contribution/300
LOCATION:ICTP Giambiagi Lecture Hall (AGH)
URL://indico.ictp.it/event/8716/session/53/contribution/300
END:VEVENT
END:VCALENDAR
