BEGIN:VCALENDAR
VERSION:2.0
PRODID:-//CERN//INDICO//EN
BEGIN:VEVENT
SUMMARY:Plenary Lecture - From sour taste to the otopetrin proton channels
DTSTART;VALUE=DATE-TIME:20190913T070000Z
DTEND;VALUE=DATE-TIME:20190913T074500Z
DTSTAMP;VALUE=DATE-TIME:20240229T211858Z
UID:indico-contribution-2-0-8@ictp.it
DESCRIPTION:Speakers: EMILY LIMAN (University of Southern California\,  Lo
 s Angeles)\n//indico.ictp.it/event/8717/session/2/contribution/8
LOCATION:ICTP Leonardo Building - Budinich Lecture Hall
URL://indico.ictp.it/event/8717/session/2/contribution/8
END:VEVENT
BEGIN:VEVENT
SUMMARY:S5: Olfactory memory: its role and way of functioning in human lif
 e - Symposium
DTSTART;VALUE=DATE-TIME:20190913T081500Z
DTEND;VALUE=DATE-TIME:20190913T101500Z
DTSTAMP;VALUE=DATE-TIME:20240229T211858Z
UID:indico-contribution-2-0-9@ictp.it
DESCRIPTION:Speakers: \n//indico.ictp.it/event/8717/session/2/contribution
 /9
LOCATION:ICTP Leonardo Building - Budinich Lecture Hall
URL://indico.ictp.it/event/8717/session/2/contribution/9
END:VEVENT
BEGIN:VEVENT
SUMMARY:S6: Ectopic chemosensory receptors\, from their physiology to phar
 macology - Symposium
DTSTART;VALUE=DATE-TIME:20190913T081500Z
DTEND;VALUE=DATE-TIME:20190913T101500Z
DTSTAMP;VALUE=DATE-TIME:20240229T211858Z
UID:indico-contribution-2-0-10@ictp.it
DESCRIPTION:Speakers: \n//indico.ictp.it/event/8717/session/2/contribution
 /10
LOCATION:ICTP SISSA building - Auditorium
URL://indico.ictp.it/event/8717/session/2/contribution/10
END:VEVENT
BEGIN:VEVENT
SUMMARY:S7: Chosen from abstract submission - Symposium
DTSTART;VALUE=DATE-TIME:20190913T114500Z
DTEND;VALUE=DATE-TIME:20190913T134500Z
DTSTAMP;VALUE=DATE-TIME:20240229T211858Z
UID:indico-contribution-2-0-11@ictp.it
DESCRIPTION:Speakers: \n//indico.ictp.it/event/8717/session/2/contribution
 /11
LOCATION:ICTP Leonardo Building - Budinich Lecture Hall
URL://indico.ictp.it/event/8717/session/2/contribution/11
END:VEVENT
BEGIN:VEVENT
SUMMARY:S8: Olfactory information processing in higher brain regions - Sym
 posium
DTSTART;VALUE=DATE-TIME:20190913T114500Z
DTEND;VALUE=DATE-TIME:20190913T134500Z
DTSTAMP;VALUE=DATE-TIME:20240229T211858Z
UID:indico-contribution-2-0-12@ictp.it
DESCRIPTION:Speakers: \n//indico.ictp.it/event/8717/session/2/contribution
 /12
LOCATION:ICTP SISSA building - Auditorium
URL://indico.ictp.it/event/8717/session/2/contribution/12
END:VEVENT
BEGIN:VEVENT
SUMMARY:ECRO General Assembly 2019
DTSTART;VALUE=DATE-TIME:20190913T134500Z
DTEND;VALUE=DATE-TIME:20190913T141500Z
DTSTAMP;VALUE=DATE-TIME:20240229T211858Z
UID:indico-contribution-2-0-13@ictp.it
DESCRIPTION:Speakers: \n//indico.ictp.it/event/8717/session/2/contribution
 /13
LOCATION:ICTP Leonardo Building - Budinich Lecture Hall
URL://indico.ictp.it/event/8717/session/2/contribution/13
END:VEVENT
BEGIN:VEVENT
SUMMARY:Plenary Lecture - Leveraging olfaction to study social behavior in
  the mouse
DTSTART;VALUE=DATE-TIME:20190913T154500Z
DTEND;VALUE=DATE-TIME:20190913T163000Z
DTSTAMP;VALUE=DATE-TIME:20240229T211858Z
UID:indico-contribution-2-0-14@ictp.it
DESCRIPTION:Speakers: LISA STOWERS (Scripps Research\, La Jolla)\n//indico
 .ictp.it/event/8717/session/2/contribution/14
LOCATION:ICTP Leonardo Building - Budinich Lecture Hall
URL://indico.ictp.it/event/8717/session/2/contribution/14
END:VEVENT
END:VCALENDAR
