BEGIN:VCALENDAR
VERSION:2.0
PRODID:-//CERN//INDICO//EN
BEGIN:VEVENT
SUMMARY:Solving the 4NLS with White Noise Initial Data
DTSTART;VALUE=DATE-TIME:20190920T093000Z
DTEND;VALUE=DATE-TIME:20190920T103000Z
DTSTAMP;VALUE=DATE-TIME:20240229T211458Z
UID:indico-contribution-21@ictp.it
DESCRIPTION:Speakers: TZVETKOV\, Nikolay (University of Cergy-Pontoise\, F
 rance)\n//indico.ictp.it/event/8720/session/13/contribution/21
LOCATION:ICTP Budinich Lecture Hall (LB)
URL://indico.ictp.it/event/8720/session/13/contribution/21
END:VEVENT
END:VCALENDAR
