BEGIN:VCALENDAR
VERSION:2.0
PRODID:-//CERN//INDICO//EN
BEGIN:VEVENT
SUMMARY:A Review of Heat Transport in Hamiltonian Systems - I
DTSTART;VALUE=DATE-TIME:20190917T070000Z
DTEND;VALUE=DATE-TIME:20190917T083000Z
DTSTAMP;VALUE=DATE-TIME:20240229T211429Z
UID:indico-contribution-4-0-4@ictp.it
DESCRIPTION:Speakers: ECKMANN\, Jean-Pierre (University of Geneva\, Switze
 rland)\n//indico.ictp.it/event/8720/session/4/contribution/4
LOCATION:ICTP Budinich Lecture Hall (LB)
URL://indico.ictp.it/event/8720/session/4/contribution/4
END:VEVENT
BEGIN:VEVENT
SUMMARY:Introduction to Geometric Control Theory - III
DTSTART;VALUE=DATE-TIME:20190917T090000Z
DTEND;VALUE=DATE-TIME:20190917T103000Z
DTSTAMP;VALUE=DATE-TIME:20240229T211429Z
UID:indico-contribution-4-0-5@ictp.it
DESCRIPTION:Speakers: AGRACHEV\, Andrei ()\n//indico.ictp.it/event/8720/se
 ssion/4/contribution/5
LOCATION:ICTP Budinich Lecture Hall (LB)
URL://indico.ictp.it/event/8720/session/4/contribution/5
END:VEVENT
END:VCALENDAR
