BEGIN:VCALENDAR
VERSION:2.0
PRODID:-//CERN//INDICO//EN
BEGIN:VEVENT
SUMMARY:A Review of Heat Transport in Hamiltonian Systems - II
DTSTART;VALUE=DATE-TIME:20190918T120000Z
DTEND;VALUE=DATE-TIME:20190918T131000Z
DTSTAMP;VALUE=DATE-TIME:20240229T211505Z
UID:indico-contribution-9-0-10@ictp.it
DESCRIPTION:Speakers: ECKMANN\, Jean-Pierre ()\n//indico.ictp.it/event/872
 0/session/9/contribution/10
LOCATION:ICTP Budinich Lecture Hall (LB)
URL://indico.ictp.it/event/8720/session/9/contribution/10
END:VEVENT
BEGIN:VEVENT
SUMMARY:A Controllability Approach to SDEs Driven by Degenerate Noises and
  Applications to Networks of Oscillators
DTSTART;VALUE=DATE-TIME:20190918T131000Z
DTEND;VALUE=DATE-TIME:20190918T142000Z
DTSTAMP;VALUE=DATE-TIME:20240229T211505Z
UID:indico-contribution-9-0-11@ictp.it
DESCRIPTION:Speakers: RAQUEPAS\, Renaud (Universite' Grenoble-Alpes\, Fran
 ce)\n//indico.ictp.it/event/8720/session/9/contribution/11
LOCATION:ICTP Budinich Lecture Hall (LB)
URL://indico.ictp.it/event/8720/session/9/contribution/11
END:VEVENT
BEGIN:VEVENT
SUMMARY:On the Growth of Sobolev Norms of a Stochastic CGL Equation with A
 rbitrary Space Dimension
DTSTART;VALUE=DATE-TIME:20190918T142000Z
DTEND;VALUE=DATE-TIME:20190918T153000Z
DTSTAMP;VALUE=DATE-TIME:20240229T211505Z
UID:indico-contribution-9-0-12@ictp.it
DESCRIPTION:Speakers: HUANG\, Guan (Tsinghua University\, Beijing\, PRC)\n
 //indico.ictp.it/event/8720/session/9/contribution/12
LOCATION:ICTP Budinich Lecture Hall (LB)
URL://indico.ictp.it/event/8720/session/9/contribution/12
END:VEVENT
END:VCALENDAR
