BEGIN:VCALENDAR
VERSION:2.0
PRODID:-//CERN//INDICO//EN
BEGIN:VEVENT
SUMMARY:Dinner at Ristorante Le Terrazze
DTSTART;VALUE=DATE-TIME:20191015T170000Z
DTEND;VALUE=DATE-TIME:20191015T190000Z
DTSTAMP;VALUE=DATE-TIME:20240229T210506Z
UID:indico-contribution-12-0-80@ictp.it
DESCRIPTION:Speakers: \nAll participants of the Joint ICTP-IAEA Nuclear En
 ergy Management School are cordially invited  to attend the Dinner.\n\n//i
 ndico.ictp.it/event/8724/session/12/contribution/80
LOCATION:
URL://indico.ictp.it/event/8724/session/12/contribution/80
END:VEVENT
END:VCALENDAR
