BEGIN:VCALENDAR
VERSION:2.0
PRODID:-//CERN//INDICO//EN
BEGIN:VEVENT
SUMMARY:Day 8: Briefing
DTSTART;VALUE=DATE-TIME:20191016T064500Z
DTEND;VALUE=DATE-TIME:20191016T070000Z
DTSTAMP;VALUE=DATE-TIME:20240229T210258Z
UID:indico-contribution-59@ictp.it
DESCRIPTION:Speakers: SCIENTIFIC SECRETARY (IAEA)\n//indico.ictp.it/event/
 8724/session/13/contribution/59
LOCATION:ICTP Adriatico Guest House - Informatics Laboratory
URL://indico.ictp.it/event/8724/session/13/contribution/59
END:VEVENT
END:VCALENDAR
