BEGIN:VCALENDAR
VERSION:2.0
PRODID:-//CERN//INDICO//EN
BEGIN:VEVENT
SUMMARY:Day 9: Briefing & Departure
DTSTART;VALUE=DATE-TIME:20191017T070000Z
DTEND;VALUE=DATE-TIME:20191017T073000Z
DTSTAMP;VALUE=DATE-TIME:20240229T210313Z
UID:indico-contribution-14-0-65@ictp.it
DESCRIPTION:Speakers: SCIENTIFIC SECRETARY (IAEA)\n//indico.ictp.it/event/
 8724/session/14/contribution/65
LOCATION: Elettra
URL://indico.ictp.it/event/8724/session/14/contribution/65
END:VEVENT
BEGIN:VEVENT
SUMMARY:Syncothron ELETTRA Facility Trieste
DTSTART;VALUE=DATE-TIME:20191017T073000Z
DTEND;VALUE=DATE-TIME:20191017T103000Z
DTSTAMP;VALUE=DATE-TIME:20240229T210313Z
UID:indico-contribution-14-0-66@ictp.it
DESCRIPTION:Speakers: Ms. KISKINOVA\, Maya (ELETTRA)\, Mr. GREGORATTI\, Lu
 ca (ELETTRA)\n//indico.ictp.it/event/8724/session/14/contribution/66
LOCATION: Elettra
URL://indico.ictp.it/event/8724/session/14/contribution/66
END:VEVENT
BEGIN:VEVENT
SUMMARY:Return trip
DTSTART;VALUE=DATE-TIME:20191017T103000Z
DTEND;VALUE=DATE-TIME:20191017T110000Z
DTSTAMP;VALUE=DATE-TIME:20240229T210313Z
UID:indico-contribution-14-0-67@ictp.it
DESCRIPTION:Speakers: \n//indico.ictp.it/event/8724/session/14/contributio
 n/67
LOCATION: Elettra
URL://indico.ictp.it/event/8724/session/14/contribution/67
END:VEVENT
END:VCALENDAR
