BEGIN:VCALENDAR
VERSION:2.0
PRODID:-//CERN//INDICO//EN
BEGIN:VEVENT
SUMMARY:Group Presentation 3
DTSTART;VALUE=DATE-TIME:20191018T101000Z
DTEND;VALUE=DATE-TIME:20191018T103000Z
DTSTAMP;VALUE=DATE-TIME:20240229T210347Z
UID:indico-contribution-74@ictp.it
DESCRIPTION:Speakers: \n//indico.ictp.it/event/8724/session/15/contributio
 n/74
LOCATION:ICTP Adriatico Guest House - Informatics Laboratory
URL://indico.ictp.it/event/8724/session/15/contribution/74
END:VEVENT
END:VCALENDAR
