BEGIN:VCALENDAR
VERSION:2.0
PRODID:-//CERN//INDICO//EN
BEGIN:VEVENT
SUMMARY:Group Presentation 5
DTSTART;VALUE=DATE-TIME:20191018T115000Z
DTEND;VALUE=DATE-TIME:20191018T121000Z
DTSTAMP;VALUE=DATE-TIME:20240229T210352Z
UID:indico-contribution-76@ictp.it
DESCRIPTION:Speakers: \n//indico.ictp.it/event/8724/session/15/contributio
 n/76
LOCATION:ICTP Adriatico Guest House - Informatics Laboratory
URL://indico.ictp.it/event/8724/session/15/contribution/76
END:VEVENT
END:VCALENDAR
