BEGIN:VCALENDAR
VERSION:2.0
PRODID:-//CERN//INDICO//EN
BEGIN:VEVENT
SUMMARY:Distribution of the Group Projects
DTSTART;VALUE=DATE-TIME:20191007T151500Z
DTEND;VALUE=DATE-TIME:20191007T153000Z
DTSTAMP;VALUE=DATE-TIME:20240229T210454Z
UID:indico-contribution-8@ictp.it
DESCRIPTION:Speakers: Ms. OVANES\, Michaela (IAEA)\n//indico.ictp.it/event
 /8724/session/4/contribution/8
LOCATION:ICTP Giambiagi Lecture Hall (AGH)
URL://indico.ictp.it/event/8724/session/4/contribution/8
END:VEVENT
END:VCALENDAR
