BEGIN:VCALENDAR
VERSION:2.0
PRODID:-//CERN//INDICO//EN
BEGIN:VEVENT
SUMMARY:An Integrated Approach to HRD and Nuclear Knowledge Management
DTSTART;VALUE=DATE-TIME:20191008T113000Z
DTEND;VALUE=DATE-TIME:20191008T123000Z
DTSTAMP;VALUE=DATE-TIME:20240229T210508Z
UID:indico-contribution-13@ictp.it
DESCRIPTION:Speakers: Ms. OVANES\, Michaela (IAEA)\n//indico.ictp.it/event
 /8724/session/6/contribution/13
LOCATION:ICTP Giambiagi Lecture Hall (AGH)
URL://indico.ictp.it/event/8724/session/6/contribution/13
END:VEVENT
END:VCALENDAR
