BEGIN:VCALENDAR
VERSION:2.0
PRODID:-//CERN//INDICO//EN
BEGIN:VEVENT
SUMMARY:Nuclear RP Tutorials (Group Exercise)
DTSTART;VALUE=DATE-TIME:20191008T140000Z
DTEND;VALUE=DATE-TIME:20191008T150000Z
DTSTAMP;VALUE=DATE-TIME:20240229T210337Z
UID:indico-contribution-15@ictp.it
DESCRIPTION:Speakers: \n//indico.ictp.it/event/8724/session/6/contribution
 /15
LOCATION:ICTP Giambiagi Lecture Hall (AGH)
URL://indico.ictp.it/event/8724/session/6/contribution/15
END:VEVENT
END:VCALENDAR
