BEGIN:VCALENDAR
VERSION:2.0
PRODID:-//CERN//INDICO//EN
BEGIN:VEVENT
SUMMARY:Nuclear Law and Relevant International Legal Instruments
DTSTART;VALUE=DATE-TIME:20191009T091500Z
DTEND;VALUE=DATE-TIME:20191009T101500Z
DTSTAMP;VALUE=DATE-TIME:20240229T210252Z
UID:indico-contribution-20@ictp.it
DESCRIPTION:Speakers: Ms. SCOTTO (VIDEOCONF.)\, Camille (IAEA)\n//indico.i
 ctp.it/event/8724/session/7/contribution/20
LOCATION:ICTP Giambiagi Lecture Hall (AGH)
URL://indico.ictp.it/event/8724/session/7/contribution/20
END:VEVENT
END:VCALENDAR
