BEGIN:VCALENDAR
VERSION:2.0
PRODID:-//CERN//INDICO//EN
BEGIN:VEVENT
SUMMARY:Nuclear Management & Leadership
DTSTART;VALUE=DATE-TIME:20191011T080000Z
DTEND;VALUE=DATE-TIME:20191011T090000Z
DTSTAMP;VALUE=DATE-TIME:20240229T210543Z
UID:indico-contribution-36@ictp.it
DESCRIPTION:Speakers: Mr. PYY\, Pekka (IAEA)\n//indico.ictp.it/event/8724/
 session/9/contribution/36
LOCATION:ICTP Giambiagi Lecture Hall (AGH)
URL://indico.ictp.it/event/8724/session/9/contribution/36
END:VEVENT
END:VCALENDAR
