BEGIN:VCALENDAR
VERSION:2.0
PRODID:-//CERN//INDICO//EN
BEGIN:VEVENT
SUMMARY:Safety Culture: Case studies (part 1)
DTSTART;VALUE=DATE-TIME:20191011T113000Z
DTEND;VALUE=DATE-TIME:20191011T130000Z
DTSTAMP;VALUE=DATE-TIME:20240229T210357Z
UID:indico-contribution-38@ictp.it
DESCRIPTION:Speakers: Mr. SOWAGI\, John (Invited Expert)\n//indico.ictp.it
 /event/8724/session/9/contribution/38
LOCATION:ICTP Giambiagi Lecture Hall (AGH)
URL://indico.ictp.it/event/8724/session/9/contribution/38
END:VEVENT
END:VCALENDAR
