BEGIN:VCALENDAR
VERSION:2.0
PRODID:-//CERN//INDICO//EN
BEGIN:VEVENT
SUMMARY:5. Group Activity: MSR calculations with MC
DTSTART;VALUE=DATE-TIME:20191015T123000Z
DTEND;VALUE=DATE-TIME:20191015T133000Z
DTSTAMP;VALUE=DATE-TIME:20240229T205857Z
UID:indico-contribution-10@ictp.it
DESCRIPTION:Speakers: BUIJS\, Adriaan (McMaster University\, Hamilton\, On
 tario\, Canada)\, REITSMA\, Frederik (IAEA)\n//indico.ictp.it/event/8725/s
 ession/2/contribution/10
LOCATION:ICTP Euler Lecture Hall (LB)
URL://indico.ictp.it/event/8725/session/2/contribution/10
END:VEVENT
END:VCALENDAR
