BEGIN:VCALENDAR
VERSION:2.0
PRODID:-//CERN//INDICO//EN
BEGIN:VEVENT
SUMMARY:1. HTGR Safety Design Principles
DTSTART;VALUE=DATE-TIME:20191015T070000Z
DTEND;VALUE=DATE-TIME:20191015T080000Z
DTSTAMP;VALUE=DATE-TIME:20240229T205801Z
UID:indico-contribution-6@ictp.it
DESCRIPTION:Speakers: REITSMA\, Frederik (IAEA)\n//indico.ictp.it/event/87
 25/session/2/contribution/6
LOCATION:ICTP Euler Lecture Hall (LB)
URL://indico.ictp.it/event/8725/session/2/contribution/6
END:VEVENT
END:VCALENDAR
