BEGIN:VCALENDAR
VERSION:2.0
PRODID:-//CERN//INDICO//EN
BEGIN:VEVENT
SUMMARY:6. Poster Session (participants)
DTSTART;VALUE=DATE-TIME:20191016T140000Z
DTEND;VALUE=DATE-TIME:20191016T150000Z
DTSTAMP;VALUE=DATE-TIME:20240229T205805Z
UID:indico-contribution-17@ictp.it
DESCRIPTION:Speakers: KUZNETSOV\, Vladimir (IAEA)\, BUIJS\, Adriaan (McMas
 ter University\, Hamilton\, Ontario\, Canada)\, REITSMA\, Frederik (IAEA)\
 n//indico.ictp.it/event/8725/session/3/contribution/17
LOCATION:ICTP Euler Lecture Hall (LB)
URL://indico.ictp.it/event/8725/session/3/contribution/17
END:VEVENT
END:VCALENDAR
