BEGIN:VCALENDAR
VERSION:2.0
PRODID:-//CERN//INDICO//EN
BEGIN:VEVENT
SUMMARY:2. Nuclear hydrogen production
DTSTART;VALUE=DATE-TIME:20191017T083000Z
DTEND;VALUE=DATE-TIME:20191017T093000Z
DTSTAMP;VALUE=DATE-TIME:20240229T205803Z
UID:indico-contribution-19@ictp.it
DESCRIPTION:Speakers: KHAMIS\, Ibrahim (IAEA)\n//indico.ictp.it/event/8725
 /session/4/contribution/19
LOCATION:ICTP Euler Lecture Hall (LB)
URL://indico.ictp.it/event/8725/session/4/contribution/19
END:VEVENT
END:VCALENDAR
