BEGIN:VCALENDAR
VERSION:2.0
PRODID:-//CERN//INDICO//EN
BEGIN:VEVENT
SUMMARY:5. Group Activities on IAEA water management toolkit
DTSTART;VALUE=DATE-TIME:20191017T123000Z
DTEND;VALUE=DATE-TIME:20191017T133000Z
DTSTAMP;VALUE=DATE-TIME:20240229T205756Z
UID:indico-contribution-22@ictp.it
DESCRIPTION:Speakers: KHAMIS\, Ibrahim (IAEA)\, REITSMA\, Frederik (IAEA)\
 n//indico.ictp.it/event/8725/session/4/contribution/22
LOCATION:ICTP Euler Lecture Hall (LB)
URL://indico.ictp.it/event/8725/session/4/contribution/22
END:VEVENT
END:VCALENDAR
