BEGIN:VCALENDAR
VERSION:2.0
PRODID:-//CERN//INDICO//EN
BEGIN:VEVENT
SUMMARY:1. Production of medical isotopes in MSR
DTSTART;VALUE=DATE-TIME:20191018T070000Z
DTEND;VALUE=DATE-TIME:20191018T080000Z
DTSTAMP;VALUE=DATE-TIME:20240229T205909Z
UID:indico-contribution-24@ictp.it
DESCRIPTION:Speakers: FEYNBERG\, Olga (NRCKI\, Russia)\n//indico.ictp.it/e
 vent/8725/session/5/contribution/24
LOCATION:ICTP Euler Lecture Hall (LB)
URL://indico.ictp.it/event/8725/session/5/contribution/24
END:VEVENT
END:VCALENDAR
