BEGIN:VCALENDAR
VERSION:2.0
PRODID:-//CERN//INDICO//EN
BEGIN:VEVENT
SUMMARY:1. Production of medical isotopes in MSR
DTSTART;VALUE=DATE-TIME:20191018T070000Z
DTEND;VALUE=DATE-TIME:20191018T080000Z
DTSTAMP;VALUE=DATE-TIME:20240229T205832Z
UID:indico-contribution-5-0-24@ictp.it
DESCRIPTION:Speakers: FEYNBERG\, Olga (NRCKI\, Russia)\n//indico.ictp.it/e
 vent/8725/session/5/contribution/24
LOCATION:ICTP Euler Lecture Hall (LB)
URL://indico.ictp.it/event/8725/session/5/contribution/24
END:VEVENT
BEGIN:VEVENT
SUMMARY:2. The IAEA activities on Advanced Reactors Technology and SMRs
DTSTART;VALUE=DATE-TIME:20191018T083000Z
DTEND;VALUE=DATE-TIME:20191018T093000Z
DTSTAMP;VALUE=DATE-TIME:20240229T205832Z
UID:indico-contribution-5-0-25@ictp.it
DESCRIPTION:Speakers: REITSMA\, Frederik (IAEA)\n//indico.ictp.it/event/87
 25/session/5/contribution/25
LOCATION:ICTP Euler Lecture Hall (LB)
URL://indico.ictp.it/event/8725/session/5/contribution/25
END:VEVENT
BEGIN:VEVENT
SUMMARY:3. Special HTGR topics: Modelling\, tools and uncertainty analysis
DTSTART;VALUE=DATE-TIME:20191018T093000Z
DTEND;VALUE=DATE-TIME:20191018T103000Z
DTSTAMP;VALUE=DATE-TIME:20240229T205832Z
UID:indico-contribution-5-0-26@ictp.it
DESCRIPTION:Speakers: REITSMA\, Frederik (IAEA)\n//indico.ictp.it/event/87
 25/session/5/contribution/26
LOCATION:ICTP Euler Lecture Hall (LB)
URL://indico.ictp.it/event/8725/session/5/contribution/26
END:VEVENT
END:VCALENDAR
