BEGIN:VCALENDAR
VERSION:2.0
PRODID:-//CERN//INDICO//EN
BEGIN:VEVENT
SUMMARY:Closing session - Feedback\, final remarks and closing 
DTSTART;VALUE=DATE-TIME:20191018T113000Z
DTEND;VALUE=DATE-TIME:20191018T123000Z
DTSTAMP;VALUE=DATE-TIME:20240229T210150Z
UID:indico-event-6-0@ictp.it
DESCRIPTION://indico.ictp.it/event/8725/session/6/?slotId=0
LOCATION:ICTP Euler Lecture Hall (LB)
URL://indico.ictp.it/event/8725/session/6/?slotId=0
END:VEVENT
END:VCALENDAR
