BEGIN:VCALENDAR
VERSION:2.0
PRODID:-//CERN//INDICO//EN
BEGIN:VEVENT
SUMMARY:Opening
DTSTART;VALUE=DATE-TIME:20191014T064500Z
DTEND;VALUE=DATE-TIME:20191014T070000Z
DTSTAMP;VALUE=DATE-TIME:20240229T210149Z
UID:indico-event-7-0@ictp.it
DESCRIPTION://indico.ictp.it/event/8725/session/7/?slotId=0
LOCATION:ICTP Euler Lecture Hall (LB)
URL://indico.ictp.it/event/8725/session/7/?slotId=0
END:VEVENT
END:VCALENDAR
