BEGIN:VCALENDAR
VERSION:2.0
PRODID:-//CERN//INDICO//EN
BEGIN:VEVENT
SUMMARY:Evaluation of the NeQuick model performance under different geomag
 netic conditions over South Africa during the ascending phase of solar cyc
 le (2009-2012)
DTSTART;VALUE=DATE-TIME:20191009T123000Z
DTEND;VALUE=DATE-TIME:20191009T125000Z
DTSTAMP;VALUE=DATE-TIME:20240229T210059Z
UID:indico-contribution-45@ictp.it
DESCRIPTION:Speakers: S. M. AHOUA ET AL. (University of Cocody\, F. H. B.\
 , Cote d’Ivoire)\n//indico.ictp.it/event/8726/session/11/contribution/45
LOCATION:ICTP Leonardo Building - Euler Lecture Hall
URL://indico.ictp.it/event/8726/session/11/contribution/45
END:VEVENT
END:VCALENDAR
