BEGIN:VCALENDAR
VERSION:2.0
PRODID:-//CERN//INDICO//EN
BEGIN:VEVENT
SUMMARY:Data ingestion in the NeQuick model
DTSTART;VALUE=DATE-TIME:20191010T070000Z
DTEND;VALUE=DATE-TIME:20191010T073000Z
DTSTAMP;VALUE=DATE-TIME:20240229T210057Z
UID:indico-contribution-50@ictp.it
DESCRIPTION:Speakers: B. NAVA (ICTP)\n//indico.ictp.it/event/8726/session/
 12/contribution/50
LOCATION:ICTP Leonardo Building - Euler Lecture Hall
URL://indico.ictp.it/event/8726/session/12/contribution/50
END:VEVENT
END:VCALENDAR
