BEGIN:VCALENDAR
VERSION:2.0
PRODID:-//CERN//INDICO//EN
BEGIN:VEVENT
SUMMARY:Validation of Neural Network based model to predict foF2: A compar
 ison with NeQuick 2 model data ingestion technique
DTSTART;VALUE=DATE-TIME:20191010T081000Z
DTEND;VALUE=DATE-TIME:20191010T083000Z
DTSTAMP;VALUE=DATE-TIME:20240229T210005Z
UID:indico-contribution-53@ictp.it
DESCRIPTION:Speakers: E. O. OYEYEMI (University of Lagos\, Nigeria)\n//ind
 ico.ictp.it/event/8726/session/12/contribution/53
LOCATION:ICTP Leonardo Building - Euler Lecture Hall
URL://indico.ictp.it/event/8726/session/12/contribution/53
END:VEVENT
END:VCALENDAR
