BEGIN:VCALENDAR
VERSION:2.0
PRODID:-//CERN//INDICO//EN
BEGIN:VEVENT
SUMMARY:Administrative and Financial formalities 
DTSTART;VALUE=DATE-TIME:20191021T063000Z
DTEND;VALUE=DATE-TIME:20191021T083000Z
DTSTAMP;VALUE=DATE-TIME:20240229T205428Z
UID:indico-event-1-0@ictp.it
DESCRIPTION:REGISTRATION: Upon arrival\, Visitors not staying in the ICTP 
 Guest Houses\, are kindly requested to      complete registration formalit
 ies in Adriatico Guest House - Lower Level - Office 3  \nfrom 8.30 till 10
 .30.\n\nTRAVEL UNIT: All participants financially supported by ICTP should
  reach the Travel Unit at the Enrico  Fermi Building by 8:30 in order to f
 ulfill all financial procedures. \nPlease bring your badge or passport wit
 h you.\n\n//indico.ictp.it/event/8728/session/1/?slotId=0
LOCATION:ICTP Giambiagi Lecture Hall (AGH)
URL://indico.ictp.it/event/8728/session/1/?slotId=0
END:VEVENT
END:VCALENDAR
