BEGIN:VCALENDAR
VERSION:2.0
PRODID:-//CERN//INDICO//EN
BEGIN:VEVENT
SUMMARY:Welcoming and Opening
DTSTART;VALUE=DATE-TIME:20190610T071500Z
DTEND;VALUE=DATE-TIME:20190610T074500Z
DTSTAMP;VALUE=DATE-TIME:20240229T221034Z
UID:indico-contribution-0@ictp.it
DESCRIPTION:Speakers: \nIntroduction to ICTP and workshop objectives\, all
  tracks combined\n\n//indico.ictp.it/event/8751/session/1/contribution/0
LOCATION: Adriatico Guest House - Giambiagi Lecture Hall
URL://indico.ictp.it/event/8751/session/1/contribution/0
END:VEVENT
END:VCALENDAR
