BEGIN:VCALENDAR
VERSION:2.0
PRODID:-//CERN//INDICO//EN
BEGIN:VEVENT
SUMMARY:Introduction of participants and trainers
DTSTART;VALUE=DATE-TIME:20190610T074500Z
DTEND;VALUE=DATE-TIME:20190610T081500Z
DTSTAMP;VALUE=DATE-TIME:20240229T221155Z
UID:indico-contribution-1@ictp.it
DESCRIPTION:Speakers: \nBrief presentation (~1-2 min) by all trainers and 
 participants\n\n//indico.ictp.it/event/8751/session/1/contribution/1
LOCATION: Adriatico Guest House - InfoLab
URL://indico.ictp.it/event/8751/session/1/contribution/1
END:VEVENT
END:VCALENDAR
