BEGIN:VCALENDAR
VERSION:2.0
PRODID:-//CERN//INDICO//EN
BEGIN:VEVENT
SUMMARY:Exercise 8: Setting up and exploring electrification scenarios for
  a country
DTSTART;VALUE=DATE-TIME:20190620T084500Z
DTEND;VALUE=DATE-TIME:20190620T100000Z
DTSTAMP;VALUE=DATE-TIME:20240229T221259Z
UID:indico-contribution-33@ictp.it
DESCRIPTION:Speakers: \n//indico.ictp.it/event/8751/session/10/contributio
 n/33
LOCATION: Adriatico Guest House - InfoLab
URL://indico.ictp.it/event/8751/session/10/contribution/33
END:VEVENT
END:VCALENDAR
