BEGIN:VCALENDAR
VERSION:2.0
PRODID:-//CERN//INDICO//EN
BEGIN:VEVENT
SUMMARY:Lecture 10. NRECA's model for geospatial platform development and 
 electrification analysis
DTSTART;VALUE=DATE-TIME:20190620T110000Z
DTEND;VALUE=DATE-TIME:20190620T131500Z
DTSTAMP;VALUE=DATE-TIME:20240229T221101Z
UID:indico-contribution-34@ictp.it
DESCRIPTION:Speakers: NICHOLAS ALLEN (NRECA)\nNRECA's model for geospatial
  platform development and electrification analysis\n\n//indico.ictp.it/eve
 nt/8751/session/10/contribution/34
LOCATION:ICTP Week 1 and 2: Giambiagi\;Week 3: day 4 and 5 Budinich\;Wee
 k 1\, 2 and partial of 3 (from 10 to 26 June): Lundqvist
URL://indico.ictp.it/event/8751/session/10/contribution/34
END:VEVENT
END:VCALENDAR
