BEGIN:VCALENDAR
VERSION:2.0
PRODID:-//CERN//INDICO//EN
BEGIN:VEVENT
SUMMARY:Exercise 8: Setting up and exploring electrification scenarios for
  a country
DTSTART;VALUE=DATE-TIME:20190624T070000Z
DTEND;VALUE=DATE-TIME:20190624T081500Z
DTSTAMP;VALUE=DATE-TIME:20240229T221028Z
UID:indico-contribution-12-0-40@ictp.it
DESCRIPTION:Speakers: \n//indico.ictp.it/event/8751/session/12/contributio
 n/40
LOCATION: Adriatico Guest House - InfoLab
URL://indico.ictp.it/event/8751/session/12/contribution/40
END:VEVENT
BEGIN:VEVENT
SUMMARY:Exercise 8: Setting up and exploring electrification scenarios for
  a country
DTSTART;VALUE=DATE-TIME:20190624T084500Z
DTEND;VALUE=DATE-TIME:20190624T100000Z
DTSTAMP;VALUE=DATE-TIME:20240229T221028Z
UID:indico-contribution-12-0-41@ictp.it
DESCRIPTION:Speakers: \n//indico.ictp.it/event/8751/session/12/contributio
 n/41
LOCATION: Adriatico Guest House - InfoLab
URL://indico.ictp.it/event/8751/session/12/contribution/41
END:VEVENT
BEGIN:VEVENT
SUMMARY:Exercise 8: Setting up and exploring electrification scenarios for
  a country
DTSTART;VALUE=DATE-TIME:20190624T110000Z
DTEND;VALUE=DATE-TIME:20190624T131500Z
DTSTAMP;VALUE=DATE-TIME:20240229T221028Z
UID:indico-contribution-12-0-42@ictp.it
DESCRIPTION:Speakers: \n//indico.ictp.it/event/8751/session/12/contributio
 n/42
LOCATION: Adriatico Guest House - InfoLab
URL://indico.ictp.it/event/8751/session/12/contribution/42
END:VEVENT
BEGIN:VEVENT
SUMMARY:Exercise 8: Setting up and exploring electrification scenarios for
  a country
DTSTART;VALUE=DATE-TIME:20190624T134500Z
DTEND;VALUE=DATE-TIME:20190624T150000Z
DTSTAMP;VALUE=DATE-TIME:20240229T221028Z
UID:indico-contribution-12-0-43@ictp.it
DESCRIPTION:Speakers: \n//indico.ictp.it/event/8751/session/12/contributio
 n/43
LOCATION: Adriatico Guest House - InfoLab
URL://indico.ictp.it/event/8751/session/12/contribution/43
END:VEVENT
END:VCALENDAR
