BEGIN:VCALENDAR
VERSION:2.0
PRODID:-//CERN//INDICO//EN
BEGIN:VEVENT
SUMMARY:Introduction by the participants: short presentation about their b
 ackground of experiences\, the situation of their countries and expectatio
 ns of their learning outcomes.
DTSTART;VALUE=DATE-TIME:20190610T091500Z
DTEND;VALUE=DATE-TIME:20190610T100000Z
DTSTAMP;VALUE=DATE-TIME:20240229T221312Z
UID:indico-contribution-66@ictp.it
DESCRIPTION:Speakers: \n//indico.ictp.it/event/8751/session/19/contributio
 n/66
LOCATION:ICTP Week 1 and 2: Giambiagi\;Week 3: day 4 and 5 Budinich\;Wee
 k 1\, 2 and partial of 3 (from 10 to 26 June): Lundqvist
URL://indico.ictp.it/event/8751/session/19/contribution/66
END:VEVENT
END:VCALENDAR
