BEGIN:VCALENDAR
VERSION:2.0
PRODID:-//CERN//INDICO//EN
BEGIN:VEVENT
SUMMARY:Work session: Developing your country model
DTSTART;VALUE=DATE-TIME:20190613T110000Z
DTEND;VALUE=DATE-TIME:20190613T131500Z
DTSTAMP;VALUE=DATE-TIME:20240229T221257Z
UID:indico-contribution-79@ictp.it
DESCRIPTION:Speakers: \n//indico.ictp.it/event/8751/session/22/contributio
 n/79
LOCATION:ICTP Week 1 and 2: Giambiagi\;Week 3: day 4 and 5 Budinich\;Wee
 k 1\, 2 and partial of 3 (from 10 to 26 June): Lundqvist
URL://indico.ictp.it/event/8751/session/22/contribution/79
END:VEVENT
END:VCALENDAR
