BEGIN:VCALENDAR
VERSION:2.0
PRODID:-//CERN//INDICO//EN
BEGIN:VEVENT
SUMMARY:Exercise 2: Working with Vector data : Data types\, format\, basic
  functions
DTSTART;VALUE=DATE-TIME:20190611T110000Z
DTEND;VALUE=DATE-TIME:20190611T131500Z
DTSTAMP;VALUE=DATE-TIME:20240229T221053Z
UID:indico-contribution-7@ictp.it
DESCRIPTION:Speakers: \n//indico.ictp.it/event/8751/session/3/contribution
 /7
LOCATION: Adriatico Guest House - InfoLab
URL://indico.ictp.it/event/8751/session/3/contribution/7
END:VEVENT
END:VCALENDAR
