BEGIN:VCALENDAR
VERSION:2.0
PRODID:-//CERN//INDICO//EN
BEGIN:VEVENT
SUMMARY:Drinks and Reception\, start of the HLM - wrap up of the Summer Sc
 hool Component 
DTSTART;VALUE=DATE-TIME:20190626T163000Z
DTEND;VALUE=DATE-TIME:20190626T180000Z
DTSTAMP;VALUE=DATE-TIME:20240229T221818Z
UID:indico-event-37-0@ictp.it
DESCRIPTION:Adrian Tompkins\, Research Scientist\, Earth System Physics\, 
 International Centre for Theoretical Physics (ICTP)\n\nChiara Rogate\, Ene
 rgy Specialist\, ESMAP World Bank Group\n\nUyanga Gankhuyag\, United Natio
 ns Development Program (UNDP)\n\nCertificate ceremony\n\nHolger Rogner\, D
 irector\, the OpTIMUS community\n● Close of the SD Summer School compone
 nt\n\nThomas Alfstad\, Adviser for Sustainable Development Strategies\, Un
 ited Nations Department of Economic and Social Affairs (UNDESA)\n● Openi
 ng of the High Level Meeting and Strategic Dialogue\n\n//indico.ictp.it/ev
 ent/8751/session/37/?slotId=0
LOCATION:ICTP Adriatico Guesthouse Terrace
URL://indico.ictp.it/event/8751/session/37/?slotId=0
END:VEVENT
END:VCALENDAR
