BEGIN:VCALENDAR
VERSION:2.0
PRODID:-//CERN//INDICO//EN
BEGIN:VEVENT
SUMMARY:Registration formalities
DTSTART;VALUE=DATE-TIME:20190627T063000Z
DTEND;VALUE=DATE-TIME:20190627T070000Z
DTSTAMP;VALUE=DATE-TIME:20240229T221448Z
UID:indico-contribution-127@ictp.it
DESCRIPTION:Speakers: \n//indico.ictp.it/event/8751/session/55/contributio
 n/127
LOCATION: Leonardo Building Lobby
URL://indico.ictp.it/event/8751/session/55/contribution/127
END:VEVENT
END:VCALENDAR
