BEGIN:VCALENDAR
VERSION:2.0
PRODID:-//CERN//INDICO//EN
BEGIN:VEVENT
SUMMARY:Improving the efficacy sustainable development planning and partne
 rships
DTSTART;VALUE=DATE-TIME:20190627T091000Z
DTEND;VALUE=DATE-TIME:20190627T095000Z
DTSTAMP;VALUE=DATE-TIME:20240229T221516Z
UID:indico-contribution-131@ictp.it
DESCRIPTION:Speakers: \nChair – Francesco Fuso Nerini\, KTH-Royal Instit
 ute of Technology\, Sweden\n\nHolger Rogner\, Director of the OpTIMUS comm
 unity of practice\n● What do governments need to know? Decades of planni
 ng partnership\n\nLuca Petrarulo\, Oxford Policy Management (OPM)\, UK\n
 ●  Principals to improve the efficacy of planning\n\nNicolina Linblad\, 
 Energy Access Consultant\, World Bank\n● The experience of the SDSummerS
 chool and EMP-Africa\n\nDiscussion\n\n//indico.ictp.it/event/8751/session/
 55/contribution/131
LOCATION:ICTP Leonardo Building - Budinich Lecture Hall
URL://indico.ictp.it/event/8751/session/55/contribution/131
END:VEVENT
END:VCALENDAR
