BEGIN:VCALENDAR
VERSION:2.0
PRODID:-//CERN//INDICO//EN
BEGIN:VEVENT
SUMMARY:Outcomes of the 2019 Summer School: Selected presentations from pa
 rticipants
DTSTART;VALUE=DATE-TIME:20190627T095000Z
DTEND;VALUE=DATE-TIME:20190627T110000Z
DTSTAMP;VALUE=DATE-TIME:20240229T221458Z
UID:indico-contribution-132@ictp.it
DESCRIPTION:Speakers: \nChair - Vignesh Sridharan\, KTH-Royal Institute of
  Technology\, Sweden\n\nAn electrification strategy of Afghanistan\n●  S
 ulaiman Fayez\, Kabul Polytechnic University\, Afghanistan\n\nAn energy an
 d climate mitigation strategy of Mongolia\n●  Uyanga Gankhuyag\, United 
 Nations Development Program (UNDP)\n\nDeveloping an R4IA2 Data Management 
 Program for Ghana\n● Frank Yeboah Dadzie\, Ministry of Energy\, Ghana\n\
 n//indico.ictp.it/event/8751/session/55/contribution/132
LOCATION:ICTP Leonardo Building - Budinich Lecture Hall
URL://indico.ictp.it/event/8751/session/55/contribution/132
END:VEVENT
END:VCALENDAR
