BEGIN:VCALENDAR
VERSION:2.0
PRODID:-//CERN//INDICO//EN
BEGIN:VEVENT
SUMMARY:Providing analysis and evidence in support of sustainable developm
 ent policies: MENA and central Asia perspectives
DTSTART;VALUE=DATE-TIME:20190627T123000Z
DTEND;VALUE=DATE-TIME:20190627T130000Z
DTSTAMP;VALUE=DATE-TIME:20240229T221335Z
UID:indico-contribution-133@ictp.it
DESCRIPTION:Speakers: \nChair: Elhadj Ezzahid Mohammed V University of Rab
 at\, Morocco\n\nSulaiman Fayez\, Kabul Polytechnic University\, Afghanista
 n\n● Challenges to overcome and lessons for others\n\nOsama Saadeh\, Ger
 man Jordanian University (GJU) Jordan\n● Initiatives to grow and house l
 ocal knowledge\n\nEric Williams\, KAPSARC Saudi Arabia\n● A regional hub
  in a growing community of practice\n\n//indico.ictp.it/event/8751/session
 /55/contribution/133
LOCATION:ICTP Leonardo Building - Budinich Lecture Hall
URL://indico.ictp.it/event/8751/session/55/contribution/133
END:VEVENT
END:VCALENDAR
