BEGIN:VCALENDAR
VERSION:2.0
PRODID:-//CERN//INDICO//EN
BEGIN:VEVENT
SUMMARY:Providing analysis and evidence in support of sustainable developm
 ent policies: Insights from Latin America
DTSTART;VALUE=DATE-TIME:20190627T143000Z
DTEND;VALUE=DATE-TIME:20190627T150000Z
DTSTAMP;VALUE=DATE-TIME:20240229T221324Z
UID:indico-contribution-136@ictp.it
DESCRIPTION:Speakers: \nChair: Eunice Pereira Ramos\, Royal Institute of T
 echnology\, Sweden\n\nVerónica Perna MIEM (Ministry of Industry\, Energy 
 and Mining)\, Uruguay\n● The energy transition in Uruguay \n\nAdriana Ma
 rques\, Federal Institute of Education\, Science and Technology of São Pa
 ulo\,  Brazil\n● Scaling analysis\, education for local development\n\n/
 /indico.ictp.it/event/8751/session/55/contribution/136
LOCATION:ICTP Leonardo Building - Budinich Lecture Hall
URL://indico.ictp.it/event/8751/session/55/contribution/136
END:VEVENT
END:VCALENDAR
