BEGIN:VCALENDAR
VERSION:2.0
PRODID:-//CERN//INDICO//EN
BEGIN:VEVENT
SUMMARY:Providing analysis and evidence in support of sustainable developm
 ent policies: Insights from North America and Europe
DTSTART;VALUE=DATE-TIME:20190627T150000Z
DTEND;VALUE=DATE-TIME:20190627T153000Z
DTSTAMP;VALUE=DATE-TIME:20240229T221512Z
UID:indico-contribution-137@ictp.it
DESCRIPTION:Speakers: \nChair Taco Niet\, SFU\, Canada\n\nChip Friley\, Co
 nsultant formally Brookhaven National Lab and energy modelling lead for th
 e US DOE\, USA\n● Running a national energy modelling process to support
  decision making\n\nIoannis Kougias\, Joint Research Centre\, European Com
 mission\n● Building a bridge between northern research advances and sout
 hern needs\n\n\nPaolo Carnevale\, Fondazione Eni Enrico Mattei (FEEM)\, It
 aly\n● A new approach for Africa: Research\, Partnerships\, networking a
 nd knowledge dissemination\n\n//indico.ictp.it/event/8751/session/55/contr
 ibution/137
LOCATION:ICTP Leonardo Building - Budinich Lecture Hall
URL://indico.ictp.it/event/8751/session/55/contribution/137
END:VEVENT
END:VCALENDAR
