BEGIN:VCALENDAR
VERSION:2.0
PRODID:-//CERN//INDICO//EN
BEGIN:VEVENT
SUMMARY:Closing remarks and follow up actions
DTSTART;VALUE=DATE-TIME:20190628T101000Z
DTEND;VALUE=DATE-TIME:20190628T102000Z
DTSTAMP;VALUE=DATE-TIME:20240229T221604Z
UID:indico-contribution-142@ictp.it
DESCRIPTION:Speakers: \nChair: Anjana Das\, VITO\, Belgium\n\nAdrian Tompk
 ins\, Research Scientist\, Earth System Physics\, International Centre for
  Theoretical Physics\n\nChiara Rogate\, Energy Specialist\, World Bank Gro
 up\, Energy Sector Management Assistance Program\n\nMark Howells\, Directo
 r and Professor: division of Energy Systems  Analysis\, Royal Institute of
  Technology\n\n//indico.ictp.it/event/8751/session/56/contribution/142
LOCATION:ICTP Leonardo Building - Budinich Lecture Hall
URL://indico.ictp.it/event/8751/session/56/contribution/142
END:VEVENT
END:VCALENDAR
