BEGIN:VCALENDAR
VERSION:2.0
PRODID:-//CERN//INDICO//EN
BEGIN:VEVENT
SUMMARY:Exercise 7: Assessing the investment cost required to meet SDG7
DTSTART;VALUE=DATE-TIME:20190617T110000Z
DTEND;VALUE=DATE-TIME:20190617T131500Z
DTSTAMP;VALUE=DATE-TIME:20240229T221613Z
UID:indico-contribution-23@ictp.it
DESCRIPTION:Speakers: \n//indico.ictp.it/event/8751/session/7/contribution
 /23
LOCATION: Adriatico Guest House - InfoLab
URL://indico.ictp.it/event/8751/session/7/contribution/23
END:VEVENT
END:VCALENDAR
